BEGIN:VCALENDAR
VERSION:2.0
PRODID:xn--grne-miltenberg-0vb.de
METHOD:PUBLISH
BEGIN:VTIMEZONE
TZID:Europe/Berlin
X-LIC-LOCATION:Europe/Berlin
BEGIN:DAYLIGHT
TZOFFSETFROM:+0100
TZOFFSETTO:+0200
TZNAME:CEST
DTSTART:19700329T020000
RRULE:FREQ=YEARLY;INTERVAL=1;BYDAY=-1SU;BYMONTH=3
END:DAYLIGHT
BEGIN:STANDARD
TZOFFSETFROM:+0200
TZOFFSETTO:+0100
TZNAME:CET
DTSTART:19701025T030000
RRULE:FREQ=YEARLY;INTERVAL=1;BYDAY=-1SU;BYMONTH=10
END:STANDARD
END:VTIMEZONE
BEGIN:VEVENT
UID:a35bcb1043345a39acf2f8e93bf27ad2@xn--grne-miltenberg-0vb.de
URL;VALUE=URI:https://xn--grne-miltenberg-0vb.de/termine/genussradeln/
LOCATION:Römermuseum, Untere Wallstraße 29 a, Obernburg
SUMMARY:Genussradeln
DESCRIPTION;ALTREP="data:text/html,%0A%3Cp%3EWir%20laden%20euch%20sehr%20
 herzlich%20ein%20zum%20Genussradeln%20mit%20unseren%20Bezirkstagskandidat
 %2Ainnen%20Sabine%20Schmelmer%20und%20Albert%20Taudte.%20Wir%20treffen%20
 uns%20am%20Freitag%2C%2018.08.2023%20um%2011%20Uhr%20am%20R%C3%B6mermuseu
 m%20in%20Obernburg%2C%20Untere%20Wallstra%C3%9Fe%2029%20a.%20Unsere%20gr%
 C3%BCne%20Stadtr%C3%A4tin%20Heidi%20Weber%20wird%20uns%20zun%C3%A4chst%20
 durch%20das%20Museum%20f%C3%BChren.%20Anschlie%C3%9Fend%20l%C3%A4dt%20der
 %20Kreisverband%20zu%20einem%20regional-fairen%20Vesper%20ein.%20Mit%20de
 m%20Fahrrad%20geht%20es%20dann%20nach%20Klingenberg%20zum%20Bioland%20%E2
 %80%93%20Weinbaubetrieb%20Stritzinger.%20Familie%20Stritzinger%20informie
 rt%20%C3%BCber%20die%20Auswirkungen%20der%20zunehmenden%20Trockenheit%20a
 uf%20den%20Weinbau%20und%20stellt%20in%20einer%20kleinen%20Weinprobe%20ei
 ne%20Auswahl%20ihrer%20Weine%20vor.%20Die%20Fahrradtour%20f%C3%BChrt%20en
 tlang%20unseres%20wundersch%C3%B6nen%20Mains%20weiter%20nach%20Miltenberg
 %20mit%20einem%20Abschluss%20in%20einem%20Biergarten.%C2%A0%20Wer%20nicht
 %20mehr%20mit%20dem%20Fahrrad%20zur%C3%BCckfahren%20m%C3%B6chte%2C%20kann
 %20preiswert%20mit%20dem%20%E2%80%9EAuf%C2%A0%20Achse%20Ticket%E2%80%9C%2
 0f%C3%BCr%205%20Euro%20%28inclusive%20Fahrradmitnahme%29%20die%20Bahn%20n
 utzen.%20Um%20besser%20planen%20zu%20k%C3%B6nnen%2C%20bitte%20ich%20euch%
 20um%20R%C3%BCckmeldung%20bis%20Montag%2C%2014.08.2023%20bei%20%3Ca%20hre
 f%3D%22mailto%3Apetra.muenzel%40hotmail.de%22%3Epetra.muenzel%40hotmail.d
 e%3C%2Fa%3E%3C%2Fp%3E%0A":Wir laden euch sehr herzlich ein zum Genussrade
 ln mit unseren Bezirkstagskandidat*innen Sabine Schmelmer und Albert Taud
 te. Wir treffen uns am Freitag\, 18.08.2023 um 11 Uhr am Römermuseum in 
 Obernburg\, Untere Wallstraße 29 a. Unsere grüne Stadträtin Heidi Webe
 r wird uns zunächst durch das Museum führen. Anschließend lädt der Kr
 eisverband zu einem regional-fairen Vesper ein. Mit dem Fahrrad geht es d
 ann nach Klingenberg zum Bioland – Weinbaubetrieb Stritzinger. Familie 
 Stritzinger informiert über die Auswirkungen der zunehmenden Trockenheit
  auf den Weinbau und stellt in einer kleinen Weinprobe eine Auswahl ihrer
  Weine vor. Die Fahrradtour führt entlang unseres wunderschönen Mains w
 eiter nach Miltenberg mit einem Abschluss in einem Biergarten.  Wer nich
 t mehr mit dem Fahrrad zurückfahren möchte\, kann preiswert mit dem „
 Auf  Achse Ticket“ für 5 Euro (inclusive Fahrradmitnahme) die Bahn nu
 tzen. Um besser planen zu können\, bitte ich euch um Rückmeldung bis Mo
 ntag\, 14.08.2023 bei petra.muenzel@hotmail.de
CLASS:PUBLIC
DTSTART;TZID=Europe/Berlin:20230818T110000
DTEND;TZID=Europe/Berlin:20230818T160000
DTSTAMP:20260421T093657
END:VEVENT
END:VCALENDAR