BEGIN:VCALENDAR
VERSION:2.0
PRODID:xn--grne-miltenberg-0vb.de
METHOD:PUBLISH
BEGIN:VTIMEZONE
TZID:Europe/Berlin
X-LIC-LOCATION:Europe/Berlin
BEGIN:DAYLIGHT
TZOFFSETFROM:+0100
TZOFFSETTO:+0200
TZNAME:CEST
DTSTART:19700329T020000
RRULE:FREQ=YEARLY;INTERVAL=1;BYDAY=-1SU;BYMONTH=3
END:DAYLIGHT
BEGIN:STANDARD
TZOFFSETFROM:+0200
TZOFFSETTO:+0100
TZNAME:CET
DTSTART:19701025T030000
RRULE:FREQ=YEARLY;INTERVAL=1;BYDAY=-1SU;BYMONTH=10
END:STANDARD
END:VTIMEZONE
BEGIN:VEVENT
UID:51a13e6cb658f73212bc2b53e16ef212@xn--grne-miltenberg-0vb.de
URL;VALUE=URI:https://xn--grne-miltenberg-0vb.de/termine/der-graslutscher
 -kommt-nach-erlenbach/
LOCATION:Stadtbiliothek Erlenbach, Am Bahnhofsplatz 6, Erlenbach
SUMMARY:Lesung mit Jan Hegenberg
DESCRIPTION;ALTREP="data:text/html,%0A%3Ch2%20class%3D%22wp-block-heading
 %22%3ELive%20in%20der%20Stadtbiliothek%20Erlenbach%3A%3C%2Fh2%3E%0A%0A%0A
 %0A%3Cp%3EEs%20wird%20spannend%20in%20der%20Bibliothek%3A%20Autor%20und%2
 0Blogger%20Jan%20Hegenberg%2C%20auch%20bekannt%20als%20%E2%80%9EDer%20Gra
 slutscher%E2%80%9C%2C%20ist%20mit%20seinen%20Bestsellern%26nbsp%3B%3Cem%3
 EWeltuntergang%20f%C3%A4llt%20aus%3C%2Fem%3E%26nbsp%3Bund%26nbsp%3B%3Cem%
 3EKlima%20Bullshit%20Bingo%3C%2Fem%3E%26nbsp%3Bzu%20Gast.%20In%20seiner%2
 0Lesung%20nimmt%20er%20die%20gr%C3%B6%C3%9Ften%20Klima-Mythen%20aufs%20Ko
 rn%20%E2%80%93%20provokant%2C%20faktenreich%20und%20mit%20einer%20guten%2
 0Portion%20Humor.%20Eine%20unterhaltsame%20sowie%20aufr%C3%BCttelnde%20Ve
 ranstaltung%2C%20die%20zum%20Mitdenken%20und%20Diskutieren%20einl%C3%A4dt
 .%20Der%20Eintritt%20ist%20frei%20%E2%80%93%20seien%20Sie%20dabei%2C%20we
 nn%20Klimafakten%20gegen%20Halbwahrheiten%20antreten%21%3C%2Fp%3E%0A%0A%0
 A%0A%3Cp%3E%3C%2Fp%3E%0A":Live in der Stadtbiliothek Erlenbach:\n\nEs wir
 d spannend in der Bibliothek: Autor und Blogger Jan Hegenberg\, auch beka
 nnt als „Der Graslutscher“\, ist mit seinen Bestsellern Weltuntergan
 g fällt aus und Klima Bullshit Bingo zu Gast. In seiner Lesung nimmt 
 er die größten Klima-Mythen aufs Korn – provokant\, faktenreich und m
 it einer guten Portion Humor. Eine unterhaltsame sowie aufrüttelnde Vera
 nstaltung\, die zum Mitdenken und Diskutieren einlädt. Der Eintritt ist 
 frei – seien Sie dabei\, wenn Klimafakten gegen Halbwahrheiten antreten
 !
CLASS:PUBLIC
DTSTART;TZID=Europe/Berlin:20250514T190000
DTEND;TZID=Europe/Berlin:20250514T210000
DTSTAMP:20260421T101206
END:VEVENT
END:VCALENDAR